BEGIN:VCALENDAR
VERSION:2.0
PRODID:-//Tukios.com/
BEGIN:VEVENT
UID:5c898dc3-a119-410d-99a2-3a4c3eb5b99b@www.mcgaffiganfuneral.com
DTSTAMP:20260419T224958Z
DTSTART:20260425T140000Z
DTEND:20260425T150000Z
SUMMARY:Funeral Service
DESCRIPTION:
URL:https://www.mcgaffiganfuneral.com/obituaries/dolores-jennie-funaiole
LOCATION: 1 School Street  Townsend MA 01469
GEO:42.6688958;-71.7039967
END:VEVENT
END:VCALENDAR