BEGIN:VCALENDAR
VERSION:2.0
PRODID:-//Tukios.com/
BEGIN:VEVENT
UID:f277ed2f-fc83-499a-81da-3f463b99c70d@www.mcgaffiganfuneral.com
DTSTAMP:20260419T224951Z
DTSTART:20260425
SUMMARY:Burial
DESCRIPTION:
URL:https://www.mcgaffiganfuneral.com/obituaries/dolores-jennie-funaiole
LOCATION:  Highland Street  Townsend MA 01469
GEO:42.669467;-71.6915919
END:VEVENT
END:VCALENDAR